BEGIN:VCALENDAR
VERSION:2.0
PRODID:-//Contratero//ES
CALSCALE:GREGORIAN
METHOD:PUBLISH
BEGIN:VEVENT
UID:Expte. 801-2024-0033@contratero.es
DTSTAMP:20260422T021018Z
DTSTART:20240507T235959
DTEND:20240508T005959
SUMMARY:Cierre: Suministro de la cesión del derecho de uso del Sof
DESCRIPTION:Suministro de la cesión del derecho de uso del Software "CorelDraw Graphics Suite"\\n\\nOrganismo: Concejalía Delegada de Innovación\, Tecnología\, Agenda Digital y Captación de Inversiones del Ayuntamiento de València\\n\\nVer en Contratero: https://contratero.es/contracts/Expte. 801-2024-0033
URL:https://contratero.es/contracts/Expte. 801-2024-0033
STATUS:CONFIRMED
BEGIN:VALARM
TRIGGER:-P1D
ACTION:DISPLAY
DESCRIPTION:Recordatorio: Suministro de la cesión del de
END:VALARM
END:VEVENT
END:VCALENDAR